BEGIN:VCALENDAR
VERSION:2.0
PRODID:-//hacksw/handcal//NONSGML v1.0//EN
BEGIN:VEVENT
SUMMARY:Championnat
UID:4d31aaa0-2cfe-46d8-82ae-b9e7cc585ad9
DTSTART:20260425T113000Z
DTEND:20260425T220000Z
LOCATION:Localisation   
CATEGORIES:Sportif
STATUS:
URL;VALUE=URI:https://www.fcmontsdegy.com/evenements/2026/04/25/championnat-2443406
END:VEVENT
END:VCALENDAR
